BEGIN:VCALENDAR
VERSION:2.0
PRODID:-//Buchhandlung Merkel - ECPv6.15.20//NONSGML v1.0//EN
CALSCALE:GREGORIAN
METHOD:PUBLISH
X-ORIGINAL-URL:https://buchhandlung-merkel.de
X-WR-CALDESC:Veranstaltungen für Buchhandlung Merkel
REFRESH-INTERVAL;VALUE=DURATION:PT1H
X-Robots-Tag:noindex
X-PUBLISHED-TTL:PT1H
BEGIN:VTIMEZONE
TZID:Europe/Berlin
BEGIN:DAYLIGHT
TZOFFSETFROM:+0100
TZOFFSETTO:+0200
TZNAME:CEST
DTSTART:20230326T010000
END:DAYLIGHT
BEGIN:STANDARD
TZOFFSETFROM:+0200
TZOFFSETTO:+0100
TZNAME:CET
DTSTART:20231029T010000
END:STANDARD
BEGIN:DAYLIGHT
TZOFFSETFROM:+0100
TZOFFSETTO:+0200
TZNAME:CEST
DTSTART:20240331T010000
END:DAYLIGHT
BEGIN:STANDARD
TZOFFSETFROM:+0200
TZOFFSETTO:+0100
TZNAME:CET
DTSTART:20241027T010000
END:STANDARD
BEGIN:DAYLIGHT
TZOFFSETFROM:+0100
TZOFFSETTO:+0200
TZNAME:CEST
DTSTART:20250330T010000
END:DAYLIGHT
BEGIN:STANDARD
TZOFFSETFROM:+0200
TZOFFSETTO:+0100
TZNAME:CET
DTSTART:20251026T010000
END:STANDARD
END:VTIMEZONE
BEGIN:VEVENT
DTSTART;TZID=Europe/Berlin:20241009T190000
DTEND;TZID=Europe/Berlin:20241009T190000
DTSTAMP:20260420T041650
CREATED:20240621T085125Z
LAST-MODIFIED:20240821T143900Z
UID:9448-1728500400-1728500400@buchhandlung-merkel.de
SUMMARY:Literarische Vesper - Grenzach
DESCRIPTION:Patri­cia Mer­kel\, Anke Gliesche und Iris Arndt prä­sen­tie­ren ihre per­sön­li­chen Büch­er­high­lights des Spät­jahrs — Lite­ra­ri­sches wie Unter­hal­tung\, unbe­kann­te wie bekann­te Autor:innen\, Bel­le­tris­tik wie Sach­buch. Sie stel­len in ent­spann­ter Run­de bei Snacks und Wein die schöns­ten Titel vor. Ein Genie­ßer-Abend für alle Buchenthusiast:innen. \nGebühr: 8\,00 €\, mit Anmel­dung bei der vhs\, Bar­zah­lung vor Ort \nIn Koope­ra­ti­on mit der VHS Grenz­ach-Wyh­len
URL:https://buchhandlung-merkel.de/event/literarische-vesper-2/
LOCATION:Buchhandlung Merkel\, Basler Str. 2_\, 79639 Grenzach-Wyhlen\, Deutschland
CATEGORIES:Veranstaltungen
ATTACH;FMTTYPE=image/jpeg:https://buchhandlung-merkel.de/wp-content/uploads/2023/03/Literarisches-Vesper-2023.jpg
END:VEVENT
BEGIN:VEVENT
DTSTART;TZID=Europe/Berlin:20241017T190000
DTEND;TZID=Europe/Berlin:20241017T190000
DTSTAMP:20260420T041650
CREATED:20240821T143829Z
LAST-MODIFIED:20240821T144005Z
UID:9479-1729191600-1729191600@buchhandlung-merkel.de
SUMMARY:Literarische Vesper - Rheinfelden
DESCRIPTION:Patri­cia Mer­kel\, Anke Gliesche und Iris Arndt prä­sen­tie­ren ihre per­sön­li­chen Büch­er­high­lights des Spät­jahrs — Lite­ra­ri­sches wie Unter­hal­tung\, unbe­kann­te wie bekann­te Autor:innen\, Bel­le­tris­tik wie Sach­buch. Sie stel­len in ent­spann­ter Run­de bei Snacks und Wein die schöns­ten Titel vor. Ein Genie­ßer-Abend für alle Buchenthusiast:innen. \nGebühr: 8\,00 €\, Bar­zah­lung vor Ort
URL:https://buchhandlung-merkel.de/event/literarische-vesper-rheinfelden/
LOCATION:Buchhandlung Merkel\, Karlstraße 10_\, 79618 Rheinfelden
CATEGORIES:Veranstaltungen
ATTACH;FMTTYPE=image/jpeg:https://buchhandlung-merkel.de/wp-content/uploads/2023/03/Literarisches-Vesper-2023.jpg
END:VEVENT
END:VCALENDAR