BEGIN:VCALENDAR
VERSION:2.0
PRODID:-//Buchhandlung Merkel - ECPv6.15.20//NONSGML v1.0//EN
CALSCALE:GREGORIAN
METHOD:PUBLISH
X-WR-CALNAME:Buchhandlung Merkel
X-ORIGINAL-URL:https://buchhandlung-merkel.de
X-WR-CALDESC:Veranstaltungen für Buchhandlung Merkel
REFRESH-INTERVAL;VALUE=DURATION:PT1H
X-Robots-Tag:noindex
X-PUBLISHED-TTL:PT1H
BEGIN:VTIMEZONE
TZID:Europe/Berlin
BEGIN:DAYLIGHT
TZOFFSETFROM:+0100
TZOFFSETTO:+0200
TZNAME:CEST
DTSTART:20250330T010000
END:DAYLIGHT
BEGIN:STANDARD
TZOFFSETFROM:+0200
TZOFFSETTO:+0100
TZNAME:CET
DTSTART:20251026T010000
END:STANDARD
BEGIN:DAYLIGHT
TZOFFSETFROM:+0100
TZOFFSETTO:+0200
TZNAME:CEST
DTSTART:20260329T010000
END:DAYLIGHT
BEGIN:STANDARD
TZOFFSETFROM:+0200
TZOFFSETTO:+0100
TZNAME:CET
DTSTART:20261025T010000
END:STANDARD
BEGIN:DAYLIGHT
TZOFFSETFROM:+0100
TZOFFSETTO:+0200
TZNAME:CEST
DTSTART:20270328T010000
END:DAYLIGHT
BEGIN:STANDARD
TZOFFSETFROM:+0200
TZOFFSETTO:+0100
TZNAME:CET
DTSTART:20271031T010000
END:STANDARD
END:VTIMEZONE
BEGIN:VEVENT
DTSTART;VALUE=DATE:20261205
DTEND;VALUE=DATE:20261206
DTSTAMP:20260423T220157
CREATED:20260422T093214Z
LAST-MODIFIED:20260422T095421Z
UID:9907-1796428800-1796515199@buchhandlung-merkel.de
SUMMARY:Kulinarischer Samstag
DESCRIPTION:Plätz­chen und Gebäck \nWir laden Sie herz­lich zu unse­rem kuli­na­ri­schen Sams­tag ein! \nDas gan­ze Team berei­tet eine klei­ne Aus­wahl von Plätz­chen und Gebäck zum Pro­bie­ren vor und wir freu­en uns\, mit Ihnen ins Gespräch zu kommen. \nKom­men Sie ger­ne bei uns in Rhein­fel­den oder Grenz­ach-Wyh­len vor­bei und ver­brin­gen Sie einen genuss­vol­len Advents­tag mit uns.
URL:https://buchhandlung-merkel.de/event/kulinarischer-samstag-3/
LOCATION:Buchhandlung Merkel\, Karlstraße 10_\, 79618 Rheinfelden
CATEGORIES:Veranstaltungen
ATTACH;FMTTYPE=image/png:https://buchhandlung-merkel.de/wp-content/uploads/2026/04/Kulinarischer-Samstag-Plaetzchen-Bild.png
END:VEVENT
END:VCALENDAR