BEGIN:VCALENDAR
VERSION:2.0
PRODID:-//Buchhandlung Merkel - ECPv6.15.20//NONSGML v1.0//EN
CALSCALE:GREGORIAN
METHOD:PUBLISH
X-ORIGINAL-URL:https://buchhandlung-merkel.de
X-WR-CALDESC:Veranstaltungen für Buchhandlung Merkel
REFRESH-INTERVAL;VALUE=DURATION:PT1H
X-Robots-Tag:noindex
X-PUBLISHED-TTL:PT1H
BEGIN:VTIMEZONE
TZID:Europe/Berlin
BEGIN:DAYLIGHT
TZOFFSETFROM:+0100
TZOFFSETTO:+0200
TZNAME:CEST
DTSTART:20230326T010000
END:DAYLIGHT
BEGIN:STANDARD
TZOFFSETFROM:+0200
TZOFFSETTO:+0100
TZNAME:CET
DTSTART:20231029T010000
END:STANDARD
BEGIN:DAYLIGHT
TZOFFSETFROM:+0100
TZOFFSETTO:+0200
TZNAME:CEST
DTSTART:20240331T010000
END:DAYLIGHT
BEGIN:STANDARD
TZOFFSETFROM:+0200
TZOFFSETTO:+0100
TZNAME:CET
DTSTART:20241027T010000
END:STANDARD
BEGIN:DAYLIGHT
TZOFFSETFROM:+0100
TZOFFSETTO:+0200
TZNAME:CEST
DTSTART:20250330T010000
END:DAYLIGHT
BEGIN:STANDARD
TZOFFSETFROM:+0200
TZOFFSETTO:+0100
TZNAME:CET
DTSTART:20251026T010000
END:STANDARD
END:VTIMEZONE
BEGIN:VEVENT
DTSTART;TZID=Europe/Berlin:20241106T193000
DTEND;TZID=Europe/Berlin:20241106T193000
DTSTAMP:20260420T064055
CREATED:20240816T144448Z
LAST-MODIFIED:20240816T145604Z
UID:9471-1730921400-1730921400@buchhandlung-merkel.de
SUMMARY:Autorenlesung mit Markus Fix
DESCRIPTION:Lesung aus “Wem die Kuckucks­uhr schlägt” und “Ein Männ­lein stirbt im Wal­de” \nAn die­sem Abend laden wir Sie herz­lich zu einer beson­de­ren Autoren­le­sung in Rhein­fel­den ein\, bei der sich alles um den Schwarz­wald dreht – aber nicht um den idyl­li­schen\, den wir alle ken­nen. Statt­des­sen ent­führt uns der Autor Mar­kus Fix in die dunk­len\, geheim­nis­vol­len Ecken die­ser sagen­um­wo­be­nen Region. \nIm Anschluss an die Lesung haben Sie die Mög­lich­keit\, mit dem Autor ins Gespräch zu kom­men und Ihre Fra­gen zu stel­len. Selbst­ver­ständ­lich wird es auch die Gele­gen­heit geben\, Bücher signie­ren zu lassen.
URL:https://buchhandlung-merkel.de/event/autorenlesung-mit-markus-fix/
LOCATION:Buchhandlung Merkel\, Karlstraße 10_\, 79618 Rheinfelden
CATEGORIES:Veranstaltungen
ATTACH;FMTTYPE=image/jpeg:https://buchhandlung-merkel.de/wp-content/uploads/2024/08/Fix_Markus.jpg
END:VEVENT
END:VCALENDAR