BEGIN:VCALENDAR
VERSION:2.0
PRODID:-//Buchhandlung Merkel - ECPv6.15.20//NONSGML v1.0//EN
CALSCALE:GREGORIAN
METHOD:PUBLISH
X-ORIGINAL-URL:https://buchhandlung-merkel.de
X-WR-CALDESC:Veranstaltungen für Buchhandlung Merkel
REFRESH-INTERVAL;VALUE=DURATION:PT1H
X-Robots-Tag:noindex
X-PUBLISHED-TTL:PT1H
BEGIN:VTIMEZONE
TZID:Europe/Berlin
BEGIN:DAYLIGHT
TZOFFSETFROM:+0100
TZOFFSETTO:+0200
TZNAME:CEST
DTSTART:20250330T010000
END:DAYLIGHT
BEGIN:STANDARD
TZOFFSETFROM:+0200
TZOFFSETTO:+0100
TZNAME:CET
DTSTART:20251026T010000
END:STANDARD
BEGIN:DAYLIGHT
TZOFFSETFROM:+0100
TZOFFSETTO:+0200
TZNAME:CEST
DTSTART:20260329T010000
END:DAYLIGHT
BEGIN:STANDARD
TZOFFSETFROM:+0200
TZOFFSETTO:+0100
TZNAME:CET
DTSTART:20261025T010000
END:STANDARD
BEGIN:DAYLIGHT
TZOFFSETFROM:+0100
TZOFFSETTO:+0200
TZNAME:CEST
DTSTART:20270328T010000
END:DAYLIGHT
BEGIN:STANDARD
TZOFFSETFROM:+0200
TZOFFSETTO:+0100
TZNAME:CET
DTSTART:20271031T010000
END:STANDARD
END:VTIMEZONE
BEGIN:VEVENT
DTSTART;TZID=Europe/Berlin:20260205T193000
DTEND;TZID=Europe/Berlin:20260205T210000
DTSTAMP:20260420T165106
CREATED:20260112T135350Z
LAST-MODIFIED:20260112T135350Z
UID:9819-1770319800-1770325200@buchhandlung-merkel.de
SUMMARY:Lesung | Autorenbegegnung mit Irmtraud Tarr
DESCRIPTION:Irm­traud Tarr lebt in Rhein­fel­den und ist vie­len bekannt als Musi­ke­rin\, beson­ders als Orga­nis­tin. Neben ihrem Enga­ge­ment auf dem Feld der Musik arbei­tet sie auch als Psy­cho­the­ra­peu­tin und schreibt Bücher. \nIhr neu erschie­ne­nes Buch trägt den Titel „Ein­sam­keit“. Irm­traud Tarr beleuch­tet hier ein The­ma\, bei dem es sich zeigt\, wie schwer es vie­len Men­schen fällt\, dar­über zu spre­chen. Mit ihrem Buch möch­te Irm­traud Tarr dazu bei­tra­gen\, Ein­sam­keit als Bestand­teil des All­tags zu begrei­fen und nicht als etwas\, das man ver­ste­cken muss. In der Akzep­tanz von Ein­sam­keit sieht sie die Chan­ce auf neue Mög­lich­kei­ten\, sich selbst und ande­ren zu begegnen. \nDie Buch­hand­lung Mer­kel stellt zur Ver­an­stal­tung einen Bücher­tisch bereit. Ger­ne signiert Frau Tarr im Anschluss an die Ver­an­stal­tung Bücher. \n\nKos­ten: VVK 8 € / erm. 7 € \, Abend­kas­se 9 € / erm. 8 €\nVor­ver­kauf über Reser­vix\, in der Stadt­bi­blio­thek oder bei der Tourist-Information.
URL:https://buchhandlung-merkel.de/event/lesung-autorenbegegnung-mit-irmtraud-tarr/
LOCATION:Stadtbibliothek Rheinfelden\, Kirchplatz 6\, Rheinfelden (Baden)\, 79618\, Deutschland
CATEGORIES:Veranstaltungen
ATTACH;FMTTYPE=image/jpeg:https://buchhandlung-merkel.de/wp-content/uploads/2026/01/HP_Tarr-Plakat.jpg
ORGANIZER;CN="Stadtbibliothek Rheinfelden":MAILTO:stadtbibliothek@rheinfelden-baden.de
END:VEVENT
END:VCALENDAR