BEGIN:VCALENDAR
VERSION:2.0
PRODID:-//Buchhandlung Merkel - ECPv6.15.20//NONSGML v1.0//EN
CALSCALE:GREGORIAN
METHOD:PUBLISH
X-ORIGINAL-URL:https://buchhandlung-merkel.de
X-WR-CALDESC:Veranstaltungen für Buchhandlung Merkel
REFRESH-INTERVAL;VALUE=DURATION:PT1H
X-Robots-Tag:noindex
X-PUBLISHED-TTL:PT1H
BEGIN:VTIMEZONE
TZID:Europe/Berlin
BEGIN:DAYLIGHT
TZOFFSETFROM:+0100
TZOFFSETTO:+0200
TZNAME:CEST
DTSTART:20230326T010000
END:DAYLIGHT
BEGIN:STANDARD
TZOFFSETFROM:+0200
TZOFFSETTO:+0100
TZNAME:CET
DTSTART:20231029T010000
END:STANDARD
BEGIN:DAYLIGHT
TZOFFSETFROM:+0100
TZOFFSETTO:+0200
TZNAME:CEST
DTSTART:20240331T010000
END:DAYLIGHT
BEGIN:STANDARD
TZOFFSETFROM:+0200
TZOFFSETTO:+0100
TZNAME:CET
DTSTART:20241027T010000
END:STANDARD
BEGIN:DAYLIGHT
TZOFFSETFROM:+0100
TZOFFSETTO:+0200
TZNAME:CEST
DTSTART:20250330T010000
END:DAYLIGHT
BEGIN:STANDARD
TZOFFSETFROM:+0200
TZOFFSETTO:+0100
TZNAME:CET
DTSTART:20251026T010000
END:STANDARD
END:VTIMEZONE
BEGIN:VEVENT
DTSTART;TZID=Europe/Berlin:20240204T110000
DTEND;TZID=Europe/Berlin:20240204T123000
DTSTAMP:20260422T103201
CREATED:20240105T090035Z
LAST-MODIFIED:20240105T090035Z
UID:9336-1707044400-1707049800@buchhandlung-merkel.de
SUMMARY:Szenische Lesung der Theaterwerkstatt Rheinfelden
DESCRIPTION:Die Thea­ter­werk­statt Rhein­fel­den prä­sen­tiert: “Das Portrait” \n  \nEine sze­ni­sche Lesung von Gedich­ten ist ein heu­te sel­ten gewor­de­ner Anlass. Die “Thea­ter­werk­statt Rhein­fel­den” prä­sen­tiert aus­ge­wähl­te Tex­te aus ver­schie­de­nen Jahr­hun­der­ten zu einem The­ma\, das die bei­den Prot­ago­nis­tin­nen wie in einem Por­trait einrahmt:\nZwei Frau­en\, zwei Gene­ra­tio­nen\, Mut­ter und Toch­ter. Was haben sie sich zu sagen? Wel­che Wor­te las­sen sich fin­den für das\, was sie im Inne­ren bewegt? Gedich­te aus ver­schie­de­nen Jahr­hun­der­ten schen­ken Ein­blick in eine Begeg­nung in und zwi­schen den Zeilen. \nEeva Szes­zak und Ulri­ke Anna Bir­rin­ger\, büh­nen­er­fah­re­ne Schau­spie­le­rin­nen\, ent­füh­ren ihr Publi­kum für unge­fähr eine Stun­de in die über­ra­schen­de Welt der Poe­sie und die Magie lyri­scher Worte. \nReser­vie­rung tele­fo­nisch unter 07623 61876 oder funtbirro@bluewin.ch.
URL:https://buchhandlung-merkel.de/event/szenische-lesung-der-theaterwerkstatt-rheinfelden/
LOCATION:Buchhandlung Merkel\, Karlstraße 10_\, 79618 Rheinfelden
CATEGORIES:Veranstaltungen
ATTACH;FMTTYPE=image/jpeg:https://buchhandlung-merkel.de/wp-content/uploads/2024/01/Bildschirmfoto-vom-2024-01-05-09-56-59.jpg
END:VEVENT
END:VCALENDAR